BEGIN:VCALENDAR
VERSION:2.0
PRODID:-//ACT Players - ECPv6.15.18//NONSGML v1.0//EN
CALSCALE:GREGORIAN
METHOD:PUBLISH
X-WR-CALNAME:ACT Players
X-ORIGINAL-URL:https://actplayers.org
X-WR-CALDESC:Events for ACT Players
REFRESH-INTERVAL;VALUE=DURATION:PT1H
X-Robots-Tag:noindex
X-PUBLISHED-TTL:PT1H
BEGIN:VTIMEZONE
TZID:America/New_York
BEGIN:DAYLIGHT
TZOFFSETFROM:-0500
TZOFFSETTO:-0400
TZNAME:EDT
DTSTART:20240310T070000
END:DAYLIGHT
BEGIN:STANDARD
TZOFFSETFROM:-0400
TZOFFSETTO:-0500
TZNAME:EST
DTSTART:20241103T060000
END:STANDARD
BEGIN:DAYLIGHT
TZOFFSETFROM:-0500
TZOFFSETTO:-0400
TZNAME:EDT
DTSTART:20250309T070000
END:DAYLIGHT
BEGIN:STANDARD
TZOFFSETFROM:-0400
TZOFFSETTO:-0500
TZNAME:EST
DTSTART:20251102T060000
END:STANDARD
BEGIN:DAYLIGHT
TZOFFSETFROM:-0500
TZOFFSETTO:-0400
TZNAME:EDT
DTSTART:20260308T070000
END:DAYLIGHT
BEGIN:STANDARD
TZOFFSETFROM:-0400
TZOFFSETTO:-0500
TZNAME:EST
DTSTART:20261101T060000
END:STANDARD
END:VTIMEZONE
BEGIN:VEVENT
DTSTART;TZID=America/New_York:20251205T180000
DTEND;TZID=America/New_York:20251205T213000
DTSTAMP:20260423T183052
CREATED:20251116T171744Z
LAST-MODIFIED:20251116T201543Z
UID:4991-1764957600-1764970200@actplayers.org
SUMMARY:Little Women Auditions
DESCRIPTION:« All Events \nDecember 5\n@\n6:00 pm\n–\n9:30 pm \nLittle Women Auditions\n \nACT Players is casting for their first show of the 2026 season\, Little Women. \nAdapted from Louisa May Alcott’s classic novel\, this musical tells the story of the March sisters\, Jo\, Meg\, Beth\, and Amy\, as they experience love\, loss\, and hope in a time of war. \nAuditions are open to performers 18 and up\, all roles are open. \nAuditions\, Callbacks\, Rehearsals\, and Performances will all take place at New London United Methodist Church Social Hall \nPlease see performance and character details in the info packet below. \n🗓️Performances Dates: \nFriday March 6th and 13th \nSaturday March 7th and 14th \nSunday March 8th and 15th \n🗓️Audition Dates:  \nFriday December 5th from 6:30pm – 9pm \nSaturday December 6th from 2pm – 5pm \n1010 State Road\, Lincoln University\, PA\, USA \nFor auditions\, please prepare a verse and a chorus of a song of your choice in the style of the show. You may sing a song from the show.  Please bring your own backing track\, a bluetooth speaker will be provided. After singing\, you will be asked to read from the script. No monologue required. If you cannot audition in person\, video submissions will be accepted no later than December 6th. \nPlease fill out the audition form below prior to your audition. \n🗓️Callback Date: Sunday December 14th from 2pm – 5pm \nIf called back\, you will be notified by the end of the day December 6th and sent a callback packet of what to prepare. \nThere will be a cast meeting on Tuesday December 17th at 7pm to take headshots and costume measurements. Full rehearsals will not start until January and be determined from cast availability after auditions. \nIf you have any questions\, please email littlewomen@actplayers.org \n\nInfo Packet\n \n\nSign Up to Audition! \n\n\n\nAudition Form \n\nLoading… \n\nLoading… \nCategories:\nAuditions \nTags:\n\n6 shows\,\n\nauditions\,\n\nmusical \nDirector\nKelsey Gondek\n\nLittleWomen@actplayers.org  \nNew London UMC Social Hall\n1010 State Rd \nLincoln University\,\nPA\n19352\nUnited States\n+ Google Map \n  \n\n\n\n\nAdd to calendar \n \n\nGoogle Calendar\niCalendar\nOutlook 365\nOutlook Live\n\n\n\n\nLittle Women Auditions
URL:https://actplayers.org/event/little-women-auditions/
LOCATION:New London UMC Social Hall\, 1010 State Rd\, Lincoln University\, PA\, 19352\, United States
CATEGORIES:Auditions
ATTACH;FMTTYPE=image/png:https://actplayers.org/wp-content/uploads/2025/11/export-3.png
ORGANIZER;CN="Kelsey Gondek":MAILTO:LittleWomen@actplayers.org
END:VEVENT
BEGIN:VEVENT
DTSTART;TZID=America/New_York:20251206T140000
DTEND;TZID=America/New_York:20251206T170000
DTSTAMP:20260423T183052
CREATED:20251116T172016Z
LAST-MODIFIED:20251116T201404Z
UID:4998-1765029600-1765040400@actplayers.org
SUMMARY:Little Women Auditions
DESCRIPTION:« All Events \nDecember 6\n@\n2:00 pm\n–\n5:00 pm \nLittle Women Auditions\n \nACT Players is casting for their first show of the 2026 season\, Little Women. \nAdapted from Louisa May Alcott’s classic novel\, this musical tells the story of the March sisters\, Jo\, Meg\, Beth\, and Amy\, as they experience love\, loss\, and hope in a time of war. \nAuditions are open to performers 18 and up\, all roles are open. \nAuditions\, Callbacks\, Rehearsals\, and Performances will all take place at New London United Methodist Church Social Hall \nPlease see performance and character details in the info packet below. \n🗓️Performances Dates: \nFriday March 6th and 13th \nSaturday March 7th and 14th \nSunday March 8th and 15th \n🗓️Audition Dates:  \nFriday December 5th from 6:30pm – 9pm \nSaturday December 6th from 2pm – 5pm \n1010 State Road\, Lincoln University\, PA\, USA \nFor auditions\, please prepare a verse and a chorus of a song of your choice in the style of the show. You may sing a song from the show.  Please bring your own backing track\, a bluetooth speaker will be provided. After singing\, you will be asked to read from the script. No monologue required. If you cannot audition in person\, video submissions will be accepted no later than December 6th. \nPlease fill out the audition form below prior to your audition. \n🗓️Callback Date: Sunday December 14th from 2pm – 5pm \nIf called back\, you will be notified by the end of the day December 6th and sent a callback packet of what to prepare. \nThere will be a cast meeting on Tuesday December 17th at 7pm to take headshots and costume measurements. Full rehearsals will not start until January and be determined from cast availability after auditions. \nIf you have any questions\, please email littlewomen@actplayers.org \n\nInfo Packet\n \n\nSign Up to Audition! \n\n\n\nAudition Form \n\nLoading… \n\nLoading… \nCategories:\nAuditions \nTags:\n\n6 shows\,\n\nauditions\,\n\nmusical \nDirector\nKelsey Gondek\n\nLittleWomen@actplayers.org  \nNew London UMC Social Hall\n1010 State Rd \nLincoln University\,\nPA\n19352\nUnited States\n+ Google Map \n  \n\n\n\n\nAdd to calendar \n \n\nGoogle Calendar\niCalendar\nOutlook 365\nOutlook Live\n\n\n\n\nLittle Women Auditions \n\nMiscast Shakespeare
URL:https://actplayers.org/event/little-women-auditions-2/
LOCATION:New London UMC Social Hall\, 1010 State Rd\, Lincoln University\, PA\, 19352\, United States
CATEGORIES:Auditions
ATTACH;FMTTYPE=image/png:https://actplayers.org/wp-content/uploads/2025/11/export-3.png
ORGANIZER;CN="Kelsey Gondek":MAILTO:LittleWomen@actplayers.org
END:VEVENT
BEGIN:VEVENT
DTSTART;VALUE=DATE:20251230
DTEND;VALUE=DATE:20251231
DTSTAMP:20260423T183052
CREATED:20251208T231813Z
LAST-MODIFIED:20260117T135432Z
UID:5772-1767052800-1767139199@actplayers.org
SUMMARY:X's & O's Cabaret - Auditions
DESCRIPTION:« All Events \nDeadline: \nDecember 30\n\nFrom love letters\, to shiny baubles\, and cupid’s blessed arrow; yields the gift of ripped photos\, burnt hoodies\, and open hearts turned narrow. Cry from the rooftops\, fill the valleys with your voice; declare the depths of your love for everyone to know!  (Or bitterly weep about your broken heart because of that stupid\, trifling\, …. oh\, well\, you know.) Auditions for ACT Players’ next cabaret\, Xs & Os\, are now open!  Xs & Os will have a single performance with one or two rehearsals prior to the performance on February 13th. Submissions will be taken until December 30th.  Songs about any sort of love (or hate) are welcome! To be considered please fill out the form here: \n\nSign Up Here!\nLoading… \nOpen in new window \n\nLoading… \nOpen in new window \nCategories:\nAuditions\, Deadlines\, Event \nTags:\n\ncabaret\,\n\nevent\,\n\nfree\,\n\none day\,\n\nsign up \nDirected By: \nJess Ann Coder & Matt McLean\n\nmemclean81@gmail.com  \nNew London UMC Social Hall\n1010 State RdLincoln University\,\nPA\n19352\nUnited States \n\n+ Google Map \n  \n\n\n\n\nAdd to calendar \n  \n\nGoogle Calendar\niCalendar\nOutlook 365\nOutlook Live\n\n\n\n\nMiscast Shakespeare \n\nWonderland!
URL:https://actplayers.org/event/xo-cabaret-auditions/
LOCATION:New London UMC Social Hall\, 1010 State Rd\, Lincoln University\, PA\, 19352\, United States
CATEGORIES:Auditions,Deadlines,Event
ATTACH;FMTTYPE=image/png:https://actplayers.org/wp-content/uploads/2025/12/export.png
ORGANIZER;CN="Jess Ann Coder & Matt McLean":MAILTO:memclean81@gmail.com
END:VEVENT
END:VCALENDAR