BEGIN:VCALENDAR
VERSION:2.0
PRODID:-//ACT Players - ECPv6.15.18//NONSGML v1.0//EN
CALSCALE:GREGORIAN
METHOD:PUBLISH
X-ORIGINAL-URL:https://actplayers.org
X-WR-CALDESC:Events for ACT Players
REFRESH-INTERVAL;VALUE=DURATION:PT1H
X-Robots-Tag:noindex
X-PUBLISHED-TTL:PT1H
BEGIN:VTIMEZONE
TZID:America/New_York
BEGIN:DAYLIGHT
TZOFFSETFROM:-0500
TZOFFSETTO:-0400
TZNAME:EDT
DTSTART:20240310T070000
END:DAYLIGHT
BEGIN:STANDARD
TZOFFSETFROM:-0400
TZOFFSETTO:-0500
TZNAME:EST
DTSTART:20241103T060000
END:STANDARD
BEGIN:DAYLIGHT
TZOFFSETFROM:-0500
TZOFFSETTO:-0400
TZNAME:EDT
DTSTART:20250309T070000
END:DAYLIGHT
BEGIN:STANDARD
TZOFFSETFROM:-0400
TZOFFSETTO:-0500
TZNAME:EST
DTSTART:20251102T060000
END:STANDARD
BEGIN:DAYLIGHT
TZOFFSETFROM:-0500
TZOFFSETTO:-0400
TZNAME:EDT
DTSTART:20260308T070000
END:DAYLIGHT
BEGIN:STANDARD
TZOFFSETFROM:-0400
TZOFFSETTO:-0500
TZNAME:EST
DTSTART:20261101T060000
END:STANDARD
BEGIN:DAYLIGHT
TZOFFSETFROM:-0500
TZOFFSETTO:-0400
TZNAME:EDT
DTSTART:20270314T070000
END:DAYLIGHT
BEGIN:STANDARD
TZOFFSETFROM:-0400
TZOFFSETTO:-0500
TZNAME:EST
DTSTART:20271107T060000
END:STANDARD
END:VTIMEZONE
BEGIN:VEVENT
DTSTART;TZID=America/New_York:20260213T190000
DTEND;TZID=America/New_York:20260213T210000
DTSTAMP:20260423T170042
CREATED:20260116T003349Z
LAST-MODIFIED:20260201T143631Z
UID:6071-1771009200-1771016400@actplayers.org
SUMMARY:X's & O's Cabaret
DESCRIPTION:« All Events\n 				\n				\n				\n				\n					This event has passed. \n				\n				\n				\n				\n					\n		\n			February 13\n\n	\n\n	  @  \n\n\n7:00 pm\n\n		\n\n\n\n	\n	  -  \n\n9:00 pm\n\n\n\n	\n				\n				\n				\n				\n					\nPay what you wish 				\n				\n				\n				\n					\n	\n				\n				\n				\n				\n									From handwritten love letters and shiny baubles to cupid’s blessed arrow—and everything that comes after. This is the gift of ripped photos\, burnt hoodies\, inside jokes that sting\, and open hearts turned narrow. Cry it from the rooftops. Fill the valleys with your voice. Declare the depths of your love for everyone to hear.Or bitterly weep about your broken heart because of that stupid\, trifling—well… you know. Featuring music and performances that celebrate passion\, heartbreak\, longing\, obsession\, joy\, and regret\, Xs & Os embraces the full spectrum of connection. Sweet\, bitter\, nostalgic\, raw—sometimes all at once. Join us for this intimate\, one-night-only cabaret performance on February 13th\, just in time for Valentine’s Day. Whether you’re hopelessly romantic\, freshly broken\, or somewhere in between\, there’s a song here for you. 								\n				\n				\n				\n							\n						\n				\n					 Get Tickets Here! \n							\n			\n			\n		\n\n						\n				\n				\n				\n					\n                                				\n				\n				\n				\n									Trouble with seeing tickets? Click Here 								\n				\n				\n					\n					\n						\n				\n		\n					\n				\n				\n																														\n				\n				\n				\n																														\n				\n					\n				\n				\n						\n					\n			\n						\n				\n									Directed By: 								\n				\n				\n				\n					\n	\n	Jess Ann Coder & Matt McLean\n	\n	\n					\n			memclean81@gmail.com			\n	 \n\n\n\n				\n				\n					\n		\n				\n			\n						\n				\n					\n	\n\n	Categories:	\n		Event	\n\n				\n				\n				\n				\n					\n	\n	Tags:	\n		\n	cabaret\,\n\n	event\,\n\n	free\,\n\n	one day\,\n\n	sign up\n	\n\n				\n				\n					\n		\n					\n		\n				\n						\n					\n			\n						\n				\n					\n				\n				\n	\n	New London UMC Social Hall\n	\n	\n\n1010 State Rd\n	\n		\n		Lincoln University\,\n\n	PA\n\n	19352\n\n	United States\n\n\n\n\n	+ Google Map \n\n\n	\n					\n						\n	 \n\n\n	\n	 \n\n\n\n	\n\n\n\n		\n	\n				\n				\n					\n		\n					\n		\n				\n						\n					\n			\n						\n				\n					\n	\n		\n\n	\n	Add to calendar	\n		\n	\n\n		\n			\n									\n	Google Calendar\n\n									\n	iCalendar\n\n									\n	Outlook 365\n\n									\n	Outlook Live\n\n							\n		\n\n		\n	\n\n				\n				\n					\n		\n					\n		\n				\n						\n					\n			\n						\n				\n					\n	\n		\n\n				Deadline: Winter Club Registration	\n\n\n		\n	\n		Little Women
URL:https://actplayers.org/event/xo-cabaret/
LOCATION:New London UMC Social Hall\, 1010 State Rd\, Lincoln University\, PA\, 19352\, United States
CATEGORIES:Event
ATTACH;FMTTYPE=image/png:https://actplayers.org/wp-content/uploads/2025/12/export.png
ORGANIZER;CN="Jess Ann Coder & Matt McLean":MAILTO:memclean81@gmail.com
END:VEVENT
BEGIN:VEVENT
DTSTART;TZID=America/New_York:20260124T190000
DTEND;TZID=America/New_York:20260124T210000
DTSTAMP:20260423T170042
CREATED:20251116T154702Z
LAST-MODIFIED:20260116T003510Z
UID:4970-1769281200-1769288400@actplayers.org
SUMMARY:ACT Fast Performance
DESCRIPTION:« All Events\n 				\n				\n				\n				\n					This event has passed. \n				\n				\n				\n				\n					\n		\n			February 13\n\n	\n\n	  @  \n\n\n7:00 pm\n\n		\n\n\n\n	\n	  -  \n\n9:00 pm\n\n\n\n	\n				\n				\n				\n				\n					\nPay what you wish 				\n				\n				\n				\n					\n	\n				\n				\n				\n				\n									From handwritten love letters and shiny baubles to cupid’s blessed arrow—and everything that comes after. This is the gift of ripped photos\, burnt hoodies\, inside jokes that sting\, and open hearts turned narrow. Cry it from the rooftops. Fill the valleys with your voice. Declare the depths of your love for everyone to hear.Or bitterly weep about your broken heart because of that stupid\, trifling—well… you know. Featuring music and performances that celebrate passion\, heartbreak\, longing\, obsession\, joy\, and regret\, Xs & Os embraces the full spectrum of connection. Sweet\, bitter\, nostalgic\, raw—sometimes all at once. Join us for this intimate\, one-night-only cabaret performance on February 13th\, just in time for Valentine’s Day. Whether you’re hopelessly romantic\, freshly broken\, or somewhere in between\, there’s a song here for you. 								\n				\n				\n				\n							\n						\n				\n					 Get Tickets Here! \n							\n			\n			\n		\n\n						\n				\n				\n				\n					\n                                				\n				\n				\n				\n									Trouble with seeing tickets? Click Here 								\n				\n				\n					\n					\n						\n				\n		\n					\n				\n				\n																														\n				\n				\n				\n																														\n				\n					\n				\n				\n						\n					\n			\n						\n				\n									Directed By: 								\n				\n				\n				\n					\n	\n	Jess Ann Coder & Matt McLean\n	\n	\n					\n			memclean81@gmail.com			\n	 \n\n\n\n				\n				\n					\n		\n				\n			\n						\n				\n					\n	\n\n	Categories:	\n		Event	\n\n				\n				\n				\n				\n					\n	\n	Tags:	\n		\n	cabaret\,\n\n	event\,\n\n	free\,\n\n	one day\,\n\n	sign up\n	\n\n				\n				\n					\n		\n					\n		\n				\n						\n					\n			\n						\n				\n					\n				\n				\n	\n	New London UMC Social Hall\n	\n	\n\n1010 State Rd\n	\n		\n		Lincoln University\,\n\n	PA\n\n	19352\n\n	United States\n\n\n\n\n	+ Google Map \n\n\n	\n					\n						\n	 \n\n\n	\n	 \n\n\n\n	\n\n\n\n		\n	\n				\n				\n					\n		\n					\n		\n				\n						\n					\n			\n						\n				\n					\n	\n		\n\n	\n	Add to calendar	\n		\n	\n\n		\n			\n									\n	Google Calendar\n\n									\n	iCalendar\n\n									\n	Outlook 365\n\n									\n	Outlook Live\n\n							\n		\n\n		\n	\n\n				\n				\n					\n		\n					\n		\n				\n						\n					\n			\n						\n				\n					\n	\n		\n\n				Deadline: Winter Club Registration	\n\n\n		\n	\n		Little Women
URL:https://actplayers.org/event/act-fast-show/
LOCATION:New London UMC Social Hall\, 1010 State Rd\, Lincoln University\, PA\, 19352\, United States
CATEGORIES:Event
ATTACH;FMTTYPE=image/png:https://actplayers.org/wp-content/uploads/2025/11/export-4.png
ORGANIZER;CN="Tina Walls":MAILTO:act-fast@actplayers.org
END:VEVENT
BEGIN:VEVENT
DTSTART;TZID=America/New_York:20260123T190000
DTEND;TZID=America/New_York:20260124T210000
DTSTAMP:20260423T170042
CREATED:20251116T150515Z
LAST-MODIFIED:20260117T144640Z
UID:4940-1769194800-1769288400@actplayers.org
SUMMARY:ACT Fast: Play-In-A-Day Challenge
DESCRIPTION:« All Events\n 				\n				\n				\n				\n					This event has passed. \n				\n				\n				\n				\n					\n		\n			February 13\n\n	\n\n	  @  \n\n\n7:00 pm\n\n		\n\n\n\n	\n	  -  \n\n9:00 pm\n\n\n\n	\n				\n				\n				\n				\n					\nPay what you wish 				\n				\n				\n				\n					\n	\n				\n				\n				\n				\n									From handwritten love letters and shiny baubles to cupid’s blessed arrow—and everything that comes after. This is the gift of ripped photos\, burnt hoodies\, inside jokes that sting\, and open hearts turned narrow. Cry it from the rooftops. Fill the valleys with your voice. Declare the depths of your love for everyone to hear.Or bitterly weep about your broken heart because of that stupid\, trifling—well… you know. Featuring music and performances that celebrate passion\, heartbreak\, longing\, obsession\, joy\, and regret\, Xs & Os embraces the full spectrum of connection. Sweet\, bitter\, nostalgic\, raw—sometimes all at once. Join us for this intimate\, one-night-only cabaret performance on February 13th\, just in time for Valentine’s Day. Whether you’re hopelessly romantic\, freshly broken\, or somewhere in between\, there’s a song here for you. 								\n				\n				\n				\n							\n						\n				\n					 Get Tickets Here! \n							\n			\n			\n		\n\n						\n				\n				\n				\n					\n                                				\n				\n				\n				\n									Trouble with seeing tickets? Click Here 								\n				\n				\n					\n					\n						\n				\n		\n					\n				\n				\n																														\n				\n				\n				\n																														\n				\n					\n				\n				\n						\n					\n			\n						\n				\n									Directed By: 								\n				\n				\n				\n					\n	\n	Jess Ann Coder & Matt McLean\n	\n	\n					\n			memclean81@gmail.com			\n	 \n\n\n\n				\n				\n					\n		\n				\n			\n						\n				\n					\n	\n\n	Categories:	\n		Event	\n\n				\n				\n				\n				\n					\n	\n	Tags:	\n		\n	cabaret\,\n\n	event\,\n\n	free\,\n\n	one day\,\n\n	sign up\n	\n\n				\n				\n					\n		\n					\n		\n				\n						\n					\n			\n						\n				\n					\n				\n				\n	\n	New London UMC Social Hall\n	\n	\n\n1010 State Rd\n	\n		\n		Lincoln University\,\n\n	PA\n\n	19352\n\n	United States\n\n\n\n\n	+ Google Map \n\n\n	\n					\n						\n	 \n\n\n	\n	 \n\n\n\n	\n\n\n\n		\n	\n				\n				\n					\n		\n					\n		\n				\n						\n					\n			\n						\n				\n					\n	\n		\n\n	\n	Add to calendar	\n		\n	\n\n		\n			\n									\n	Google Calendar\n\n									\n	iCalendar\n\n									\n	Outlook 365\n\n									\n	Outlook Live\n\n							\n		\n\n		\n	\n\n				\n				\n					\n		\n					\n		\n				\n						\n					\n			\n						\n				\n					\n	\n		\n\n				Deadline: Winter Club Registration	\n\n\n		\n	\n		Little Women
URL:https://actplayers.org/event/act-fast/
LOCATION:New London UMC Social Hall\, 1010 State Rd\, Lincoln University\, PA\, 19352\, United States
CATEGORIES:Auditions,Event
ATTACH;FMTTYPE=image/png:https://actplayers.org/wp-content/uploads/2025/11/export-4.png
ORGANIZER;CN="Tina Walls":MAILTO:act-fast@actplayers.org
END:VEVENT
BEGIN:VEVENT
DTSTART;VALUE=DATE:20251230
DTEND;VALUE=DATE:20251231
DTSTAMP:20260423T170042
CREATED:20251208T231813Z
LAST-MODIFIED:20260117T135432Z
UID:5772-1767052800-1767139199@actplayers.org
SUMMARY:X's & O's Cabaret - Auditions
DESCRIPTION:« All Events\n 				\n				\n				\n				\n					This event has passed. \n				\n				\n				\n				\n					\n		\n			February 13\n\n	\n\n	  @  \n\n\n7:00 pm\n\n		\n\n\n\n	\n	  -  \n\n9:00 pm\n\n\n\n	\n				\n				\n				\n				\n					\nPay what you wish 				\n				\n				\n				\n					\n	\n				\n				\n				\n				\n									From handwritten love letters and shiny baubles to cupid’s blessed arrow—and everything that comes after. This is the gift of ripped photos\, burnt hoodies\, inside jokes that sting\, and open hearts turned narrow. Cry it from the rooftops. Fill the valleys with your voice. Declare the depths of your love for everyone to hear.Or bitterly weep about your broken heart because of that stupid\, trifling—well… you know. Featuring music and performances that celebrate passion\, heartbreak\, longing\, obsession\, joy\, and regret\, Xs & Os embraces the full spectrum of connection. Sweet\, bitter\, nostalgic\, raw—sometimes all at once. Join us for this intimate\, one-night-only cabaret performance on February 13th\, just in time for Valentine’s Day. Whether you’re hopelessly romantic\, freshly broken\, or somewhere in between\, there’s a song here for you. 								\n				\n				\n				\n							\n						\n				\n					 Get Tickets Here! \n							\n			\n			\n		\n\n						\n				\n				\n				\n					\n                                				\n				\n				\n				\n									Trouble with seeing tickets? Click Here 								\n				\n				\n					\n					\n						\n				\n		\n					\n				\n				\n																														\n				\n				\n				\n																														\n				\n					\n				\n				\n						\n					\n			\n						\n				\n									Directed By: 								\n				\n				\n				\n					\n	\n	Jess Ann Coder & Matt McLean\n	\n	\n					\n			memclean81@gmail.com			\n	 \n\n\n\n				\n				\n					\n		\n				\n			\n						\n				\n					\n	\n\n	Categories:	\n		Event	\n\n				\n				\n				\n				\n					\n	\n	Tags:	\n		\n	cabaret\,\n\n	event\,\n\n	free\,\n\n	one day\,\n\n	sign up\n	\n\n				\n				\n					\n		\n					\n		\n				\n						\n					\n			\n						\n				\n					\n				\n				\n	\n	New London UMC Social Hall\n	\n	\n\n1010 State Rd\n	\n		\n		Lincoln University\,\n\n	PA\n\n	19352\n\n	United States\n\n\n\n\n	+ Google Map \n\n\n	\n					\n						\n	 \n\n\n	\n	 \n\n\n\n	\n\n\n\n		\n	\n				\n				\n					\n		\n					\n		\n				\n						\n					\n			\n						\n				\n					\n	\n		\n\n	\n	Add to calendar	\n		\n	\n\n		\n			\n									\n	Google Calendar\n\n									\n	iCalendar\n\n									\n	Outlook 365\n\n									\n	Outlook Live\n\n							\n		\n\n		\n	\n\n				\n				\n					\n		\n					\n		\n				\n						\n					\n			\n						\n				\n					\n	\n		\n\n				Deadline: Winter Club Registration	\n\n\n		\n	\n		Little Women
URL:https://actplayers.org/event/xo-cabaret-auditions/
LOCATION:New London UMC Social Hall\, 1010 State Rd\, Lincoln University\, PA\, 19352\, United States
CATEGORIES:Auditions,Deadlines,Event
ATTACH;FMTTYPE=image/png:https://actplayers.org/wp-content/uploads/2025/12/export.png
ORGANIZER;CN="Jess Ann Coder & Matt McLean":MAILTO:memclean81@gmail.com
END:VEVENT
BEGIN:VEVENT
DTSTART;TZID=America/New_York:20251207T150000
DTEND;TZID=America/New_York:20251207T170000
DTSTAMP:20260423T170042
CREATED:20251116T131504Z
LAST-MODIFIED:20251129T210029Z
UID:4867-1765119600-1765126800@actplayers.org
SUMMARY:Miscast Shakespeare
DESCRIPTION:« All Events\n 				\n				\n				\n				\n					This event has passed. \n				\n				\n				\n				\n					\n		\n			February 13\n\n	\n\n	  @  \n\n\n7:00 pm\n\n		\n\n\n\n	\n	  -  \n\n9:00 pm\n\n\n\n	\n				\n				\n				\n				\n					\nPay what you wish 				\n				\n				\n				\n					\n	\n				\n				\n				\n				\n									From handwritten love letters and shiny baubles to cupid’s blessed arrow—and everything that comes after. This is the gift of ripped photos\, burnt hoodies\, inside jokes that sting\, and open hearts turned narrow. Cry it from the rooftops. Fill the valleys with your voice. Declare the depths of your love for everyone to hear.Or bitterly weep about your broken heart because of that stupid\, trifling—well… you know. Featuring music and performances that celebrate passion\, heartbreak\, longing\, obsession\, joy\, and regret\, Xs & Os embraces the full spectrum of connection. Sweet\, bitter\, nostalgic\, raw—sometimes all at once. Join us for this intimate\, one-night-only cabaret performance on February 13th\, just in time for Valentine’s Day. Whether you’re hopelessly romantic\, freshly broken\, or somewhere in between\, there’s a song here for you. 								\n				\n				\n				\n							\n						\n				\n					 Get Tickets Here! \n							\n			\n			\n		\n\n						\n				\n				\n				\n					\n                                				\n				\n				\n				\n									Trouble with seeing tickets? Click Here 								\n				\n				\n					\n					\n						\n				\n		\n					\n				\n				\n																														\n				\n				\n				\n																														\n				\n					\n				\n				\n						\n					\n			\n						\n				\n									Directed By: 								\n				\n				\n				\n					\n	\n	Jess Ann Coder & Matt McLean\n	\n	\n					\n			memclean81@gmail.com			\n	 \n\n\n\n				\n				\n					\n		\n				\n			\n						\n				\n					\n	\n\n	Categories:	\n		Event	\n\n				\n				\n				\n				\n					\n	\n	Tags:	\n		\n	cabaret\,\n\n	event\,\n\n	free\,\n\n	one day\,\n\n	sign up\n	\n\n				\n				\n					\n		\n					\n		\n				\n						\n					\n			\n						\n				\n					\n				\n				\n	\n	New London UMC Social Hall\n	\n	\n\n1010 State Rd\n	\n		\n		Lincoln University\,\n\n	PA\n\n	19352\n\n	United States\n\n\n\n\n	+ Google Map \n\n\n	\n					\n						\n	 \n\n\n	\n	 \n\n\n\n	\n\n\n\n		\n	\n				\n				\n					\n		\n					\n		\n				\n						\n					\n			\n						\n				\n					\n	\n		\n\n	\n	Add to calendar	\n		\n	\n\n		\n			\n									\n	Google Calendar\n\n									\n	iCalendar\n\n									\n	Outlook 365\n\n									\n	Outlook Live\n\n							\n		\n\n		\n	\n\n				\n				\n					\n		\n					\n		\n				\n						\n					\n			\n						\n				\n					\n	\n		\n\n				Deadline: Winter Club Registration	\n\n\n		\n	\n		Little Women
URL:https://actplayers.org/event/miscast-shakespeare/
LOCATION:New London UMC Social Hall\, 1010 State Rd\, Lincoln University\, PA\, 19352\, United States
CATEGORIES:Event
ATTACH;FMTTYPE=image/png:https://actplayers.org/wp-content/uploads/2025/11/export.png
ORGANIZER;CN="Nigel Caplan":MAILTO:info@actplayers.org
END:VEVENT
END:VCALENDAR