BEGIN:VCALENDAR
VERSION:2.0
PRODID:-//ACT Players - ECPv6.15.18//NONSGML v1.0//EN
CALSCALE:GREGORIAN
METHOD:PUBLISH
X-ORIGINAL-URL:https://actplayers.org
X-WR-CALDESC:Events for ACT Players
REFRESH-INTERVAL;VALUE=DURATION:PT1H
X-Robots-Tag:noindex
X-PUBLISHED-TTL:PT1H
BEGIN:VTIMEZONE
TZID:America/New_York
BEGIN:DAYLIGHT
TZOFFSETFROM:-0500
TZOFFSETTO:-0400
TZNAME:EDT
DTSTART:20250309T070000
END:DAYLIGHT
BEGIN:STANDARD
TZOFFSETFROM:-0400
TZOFFSETTO:-0500
TZNAME:EST
DTSTART:20251102T060000
END:STANDARD
BEGIN:DAYLIGHT
TZOFFSETFROM:-0500
TZOFFSETTO:-0400
TZNAME:EDT
DTSTART:20260308T070000
END:DAYLIGHT
BEGIN:STANDARD
TZOFFSETFROM:-0400
TZOFFSETTO:-0500
TZNAME:EST
DTSTART:20261101T060000
END:STANDARD
BEGIN:DAYLIGHT
TZOFFSETFROM:-0500
TZOFFSETTO:-0400
TZNAME:EDT
DTSTART:20270314T070000
END:DAYLIGHT
BEGIN:STANDARD
TZOFFSETFROM:-0400
TZOFFSETTO:-0500
TZNAME:EST
DTSTART:20271107T060000
END:STANDARD
END:VTIMEZONE
BEGIN:VEVENT
DTSTART;TZID=America/New_York:20260412T130000
DTEND;TZID=America/New_York:20260412T170000
DTSTAMP:20260423T172154
CREATED:20260328T160256Z
LAST-MODIFIED:20260328T160323Z
UID:6502-1775998800-1776013200@actplayers.org
SUMMARY:Big the Musical Auditions
DESCRIPTION:« All Events\n 				\n				\n				\n				\n					This event has passed. \n				\n				\n				\n				\n									Deadline: 								\n				\n				\n				\n					\n		\n			December 30\n\n		\n\n\n	\n				\n				\n				\n				\n					\n	\n				\n				\n				\n				\n									From love letters\, to shiny baubles\, and cupid’s blessed arrow; yields the gift of ripped photos\, burnt hoodies\, and open hearts turned narrow. Cry from the rooftops\, fill the valleys with your voice; declare the depths of your love for everyone to know!  (Or bitterly weep about your broken heart because of that stupid\, trifling\, …. oh\, well\, you know.) Auditions for ACT Players’ next cabaret\, Xs & Os\, are now open!  Xs & Os will have a single performance with one or two rehearsals prior to the performance on February 13th. Submissions will be taken until December 30th.  Songs about any sort of love (or hate) are welcome! To be considered please fill out the form here:								\n				\n				\n				\n							\n						\n				\n					 Sign Up Here! \n							\n			\n			\n		\n\n						\n				\n				\n				\n					Loading…				\n				\n				\n				\n									Open in new window 								\n				\n				\n					\n					\n						\n				\n				\n						\n					\n			\n						\n				\n					\n	\n\n	Categories:	\n		Auditions\, Deadlines\, Event	\n\n				\n				\n				\n				\n					\n	\n	Tags:	\n		\n	cabaret\,\n\n	event\,\n\n	free\,\n\n	one day\,\n\n	sign up\n	\n\n				\n				\n					\n		\n				\n			\n						\n				\n									Directed By: 								\n				\n				\n				\n					\n	\n	Jess Ann Coder & Matt McLean\n	\n	\n					\n			memclean81@gmail.com			\n	 \n\n\n\n				\n				\n					\n		\n					\n		\n				\n						\n					\n			\n						\n				\n					\n				\n				\n	\n	New London UMC Social Hall\n	\n	\n\n1010 State Rd\n	\n		\n		Lincoln University\,\n\n	PA\n\n	19352\n\n	United States\n\n\n\n\n	+ Google Map \n\n\n	\n					\n						\n	 \n\n\n	\n	 \n\n\n\n	\n\n\n\n		\n	\n				\n				\n					\n		\n					\n		\n				\n						\n					\n			\n						\n				\n					\n	\n		\n\n	\n	Add to calendar	\n		\n	\n\n		\n			\n									\n	Google Calendar\n\n									\n	iCalendar\n\n									\n	Outlook 365\n\n									\n	Outlook Live\n\n							\n		\n\n		\n	\n\n				\n				\n					\n		\n					\n		\n				\n						\n					\n			\n						\n				\n					\n	\n		\n\n				Miscast Shakespeare	\n\n\n		\n	\n		Through the Looking Glass
URL:https://actplayers.org/event/big-auditions2/
LOCATION:New London UMC Social Hall\, 1010 State Rd\, Lincoln University\, PA\, 19352\, United States
CATEGORIES:Auditions,Shows
ATTACH;FMTTYPE=image/png:https://actplayers.org/wp-content/uploads/2026/03/export-1.png
ORGANIZER;CN="Justin Elliot":MAILTO:BigtheMusical@actplayers.org
END:VEVENT
BEGIN:VEVENT
DTSTART;TZID=America/New_York:20260626T110000
DTEND;TZID=America/New_York:20260626T133000
DTSTAMP:20260423T172155
CREATED:20260101T151332Z
LAST-MODIFIED:20260121T224749Z
UID:5947-1782471600-1782480600@actplayers.org
SUMMARY:Seussical Kids - June Camp Performance
DESCRIPTION:« All Events\n 				\n				\n				\n				\n					This event has passed. \n				\n				\n				\n				\n									Deadline: 								\n				\n				\n				\n					\n		\n			December 30\n\n		\n\n\n	\n				\n				\n				\n				\n					\n	\n				\n				\n				\n				\n									From love letters\, to shiny baubles\, and cupid’s blessed arrow; yields the gift of ripped photos\, burnt hoodies\, and open hearts turned narrow. Cry from the rooftops\, fill the valleys with your voice; declare the depths of your love for everyone to know!  (Or bitterly weep about your broken heart because of that stupid\, trifling\, …. oh\, well\, you know.) Auditions for ACT Players’ next cabaret\, Xs & Os\, are now open!  Xs & Os will have a single performance with one or two rehearsals prior to the performance on February 13th. Submissions will be taken until December 30th.  Songs about any sort of love (or hate) are welcome! To be considered please fill out the form here:								\n				\n				\n				\n							\n						\n				\n					 Sign Up Here! \n							\n			\n			\n		\n\n						\n				\n				\n				\n					Loading…				\n				\n				\n				\n									Open in new window 								\n				\n				\n					\n					\n						\n				\n				\n						\n					\n			\n						\n				\n					\n	\n\n	Categories:	\n		Auditions\, Deadlines\, Event	\n\n				\n				\n				\n				\n					\n	\n	Tags:	\n		\n	cabaret\,\n\n	event\,\n\n	free\,\n\n	one day\,\n\n	sign up\n	\n\n				\n				\n					\n		\n				\n			\n						\n				\n									Directed By: 								\n				\n				\n				\n					\n	\n	Jess Ann Coder & Matt McLean\n	\n	\n					\n			memclean81@gmail.com			\n	 \n\n\n\n				\n				\n					\n		\n					\n		\n				\n						\n					\n			\n						\n				\n					\n				\n				\n	\n	New London UMC Social Hall\n	\n	\n\n1010 State Rd\n	\n		\n		Lincoln University\,\n\n	PA\n\n	19352\n\n	United States\n\n\n\n\n	+ Google Map \n\n\n	\n					\n						\n	 \n\n\n	\n	 \n\n\n\n	\n\n\n\n		\n	\n				\n				\n					\n		\n					\n		\n				\n						\n					\n			\n						\n				\n					\n	\n		\n\n	\n	Add to calendar	\n		\n	\n\n		\n			\n									\n	Google Calendar\n\n									\n	iCalendar\n\n									\n	Outlook 365\n\n									\n	Outlook Live\n\n							\n		\n\n		\n	\n\n				\n				\n					\n		\n					\n		\n				\n						\n					\n			\n						\n				\n					\n	\n		\n\n				Miscast Shakespeare	\n\n\n		\n	\n		Through the Looking Glass
URL:https://actplayers.org/event/seussical-june/
LOCATION:Penn Township Park\, 260 Lewis Rd\, West Grove\, PA\, 19390\, United States
CATEGORIES:Shows,Youth Performance
ATTACH;FMTTYPE=image/jpeg:https://actplayers.org/wp-content/uploads/2025/11/export-3.jpg
ORGANIZER;CN="June Sabo":MAILTO:youthprograms@actplayers.org
END:VEVENT
BEGIN:VEVENT
DTSTART;TZID=America/New_York:20260626T140000
DTEND;TZID=America/New_York:20260626T153000
DTSTAMP:20260423T172155
CREATED:20260121T224941Z
LAST-MODIFIED:20260121T225017Z
UID:6250-1782482400-1782487800@actplayers.org
SUMMARY:Seussical Kids - June Camp Performance
DESCRIPTION:« All Events\n 				\n				\n				\n				\n					This event has passed. \n				\n				\n				\n				\n									Deadline: 								\n				\n				\n				\n					\n		\n			December 30\n\n		\n\n\n	\n				\n				\n				\n				\n					\n	\n				\n				\n				\n				\n									From love letters\, to shiny baubles\, and cupid’s blessed arrow; yields the gift of ripped photos\, burnt hoodies\, and open hearts turned narrow. Cry from the rooftops\, fill the valleys with your voice; declare the depths of your love for everyone to know!  (Or bitterly weep about your broken heart because of that stupid\, trifling\, …. oh\, well\, you know.) Auditions for ACT Players’ next cabaret\, Xs & Os\, are now open!  Xs & Os will have a single performance with one or two rehearsals prior to the performance on February 13th. Submissions will be taken until December 30th.  Songs about any sort of love (or hate) are welcome! To be considered please fill out the form here:								\n				\n				\n				\n							\n						\n				\n					 Sign Up Here! \n							\n			\n			\n		\n\n						\n				\n				\n				\n					Loading…				\n				\n				\n				\n									Open in new window 								\n				\n				\n					\n					\n						\n				\n				\n						\n					\n			\n						\n				\n					\n	\n\n	Categories:	\n		Auditions\, Deadlines\, Event	\n\n				\n				\n				\n				\n					\n	\n	Tags:	\n		\n	cabaret\,\n\n	event\,\n\n	free\,\n\n	one day\,\n\n	sign up\n	\n\n				\n				\n					\n		\n				\n			\n						\n				\n									Directed By: 								\n				\n				\n				\n					\n	\n	Jess Ann Coder & Matt McLean\n	\n	\n					\n			memclean81@gmail.com			\n	 \n\n\n\n				\n				\n					\n		\n					\n		\n				\n						\n					\n			\n						\n				\n					\n				\n				\n	\n	New London UMC Social Hall\n	\n	\n\n1010 State Rd\n	\n		\n		Lincoln University\,\n\n	PA\n\n	19352\n\n	United States\n\n\n\n\n	+ Google Map \n\n\n	\n					\n						\n	 \n\n\n	\n	 \n\n\n\n	\n\n\n\n		\n	\n				\n				\n					\n		\n					\n		\n				\n						\n					\n			\n						\n				\n					\n	\n		\n\n	\n	Add to calendar	\n		\n	\n\n		\n			\n									\n	Google Calendar\n\n									\n	iCalendar\n\n									\n	Outlook 365\n\n									\n	Outlook Live\n\n							\n		\n\n		\n	\n\n				\n				\n					\n		\n					\n		\n				\n						\n					\n			\n						\n				\n					\n	\n		\n\n				Miscast Shakespeare	\n\n\n		\n	\n		Through the Looking Glass
URL:https://actplayers.org/event/seussical-june2/
LOCATION:Penn Township Park\, 260 Lewis Rd\, West Grove\, PA\, 19390\, United States
CATEGORIES:Shows,Youth Performance
ATTACH;FMTTYPE=image/jpeg:https://actplayers.org/wp-content/uploads/2025/11/export-3.jpg
ORGANIZER;CN="June Sabo":MAILTO:youthprograms@actplayers.org
END:VEVENT
BEGIN:VEVENT
DTSTART;TZID=America/New_York:20260627T110000
DTEND;TZID=America/New_York:20260627T133000
DTSTAMP:20260423T172155
CREATED:20260121T225209Z
LAST-MODIFIED:20260121T225209Z
UID:6255-1782558000-1782567000@actplayers.org
SUMMARY:Seussical Kids - June Camp Performance
DESCRIPTION:« All Events\n 				\n				\n				\n				\n					This event has passed. \n				\n				\n				\n				\n									Deadline: 								\n				\n				\n				\n					\n		\n			December 30\n\n		\n\n\n	\n				\n				\n				\n				\n					\n	\n				\n				\n				\n				\n									From love letters\, to shiny baubles\, and cupid’s blessed arrow; yields the gift of ripped photos\, burnt hoodies\, and open hearts turned narrow. Cry from the rooftops\, fill the valleys with your voice; declare the depths of your love for everyone to know!  (Or bitterly weep about your broken heart because of that stupid\, trifling\, …. oh\, well\, you know.) Auditions for ACT Players’ next cabaret\, Xs & Os\, are now open!  Xs & Os will have a single performance with one or two rehearsals prior to the performance on February 13th. Submissions will be taken until December 30th.  Songs about any sort of love (or hate) are welcome! To be considered please fill out the form here:								\n				\n				\n				\n							\n						\n				\n					 Sign Up Here! \n							\n			\n			\n		\n\n						\n				\n				\n				\n					Loading…				\n				\n				\n				\n									Open in new window 								\n				\n				\n					\n					\n						\n				\n				\n						\n					\n			\n						\n				\n					\n	\n\n	Categories:	\n		Auditions\, Deadlines\, Event	\n\n				\n				\n				\n				\n					\n	\n	Tags:	\n		\n	cabaret\,\n\n	event\,\n\n	free\,\n\n	one day\,\n\n	sign up\n	\n\n				\n				\n					\n		\n				\n			\n						\n				\n									Directed By: 								\n				\n				\n				\n					\n	\n	Jess Ann Coder & Matt McLean\n	\n	\n					\n			memclean81@gmail.com			\n	 \n\n\n\n				\n				\n					\n		\n					\n		\n				\n						\n					\n			\n						\n				\n					\n				\n				\n	\n	New London UMC Social Hall\n	\n	\n\n1010 State Rd\n	\n		\n		Lincoln University\,\n\n	PA\n\n	19352\n\n	United States\n\n\n\n\n	+ Google Map \n\n\n	\n					\n						\n	 \n\n\n	\n	 \n\n\n\n	\n\n\n\n		\n	\n				\n				\n					\n		\n					\n		\n				\n						\n					\n			\n						\n				\n					\n	\n		\n\n	\n	Add to calendar	\n		\n	\n\n		\n			\n									\n	Google Calendar\n\n									\n	iCalendar\n\n									\n	Outlook 365\n\n									\n	Outlook Live\n\n							\n		\n\n		\n	\n\n				\n				\n					\n		\n					\n		\n				\n						\n					\n			\n						\n				\n					\n	\n		\n\n				Miscast Shakespeare	\n\n\n		\n	\n		Through the Looking Glass
URL:https://actplayers.org/event/seussical-june3/
LOCATION:Penn Township Park\, 260 Lewis Rd\, West Grove\, PA\, 19390\, United States
CATEGORIES:Shows,Youth Performance
ATTACH;FMTTYPE=image/jpeg:https://actplayers.org/wp-content/uploads/2025/11/export-3.jpg
ORGANIZER;CN="June Sabo":MAILTO:youthprograms@actplayers.org
END:VEVENT
END:VCALENDAR