BEGIN:VCALENDAR
VERSION:2.0
PRODID:-//ACT Players - ECPv6.15.18//NONSGML v1.0//EN
CALSCALE:GREGORIAN
METHOD:PUBLISH
X-WR-CALNAME:ACT Players
X-ORIGINAL-URL:https://actplayers.org
X-WR-CALDESC:Events for ACT Players
REFRESH-INTERVAL;VALUE=DURATION:PT1H
X-Robots-Tag:noindex
X-PUBLISHED-TTL:PT1H
BEGIN:VTIMEZONE
TZID:America/New_York
BEGIN:DAYLIGHT
TZOFFSETFROM:-0500
TZOFFSETTO:-0400
TZNAME:EDT
DTSTART:20250309T070000
END:DAYLIGHT
BEGIN:STANDARD
TZOFFSETFROM:-0400
TZOFFSETTO:-0500
TZNAME:EST
DTSTART:20251102T060000
END:STANDARD
BEGIN:DAYLIGHT
TZOFFSETFROM:-0500
TZOFFSETTO:-0400
TZNAME:EDT
DTSTART:20260308T070000
END:DAYLIGHT
BEGIN:STANDARD
TZOFFSETFROM:-0400
TZOFFSETTO:-0500
TZNAME:EST
DTSTART:20261101T060000
END:STANDARD
BEGIN:DAYLIGHT
TZOFFSETFROM:-0500
TZOFFSETTO:-0400
TZNAME:EDT
DTSTART:20270314T070000
END:DAYLIGHT
BEGIN:STANDARD
TZOFFSETFROM:-0400
TZOFFSETTO:-0500
TZNAME:EST
DTSTART:20271107T060000
END:STANDARD
END:VTIMEZONE
BEGIN:VEVENT
DTSTART;TZID=America/New_York:20260109T190000
DTEND;TZID=America/New_York:20260109T203000
DTSTAMP:20260423T165600
CREATED:20251207T001817Z
LAST-MODIFIED:20260107T171656Z
UID:5755-1767985200-1767990600@actplayers.org
SUMMARY:Through the Looking Glass
DESCRIPTION:« All Events\n \n			January 9\n	  @\n7:00 pm\n	  –\n8:30 pm \n\n	Through the Looking Glass\n\nfree \n	 \nJoin us as our talented young performers take you on a whimsical journey down the rabbit hole in Through the Looking Glass! — a fast-paced\, imaginative adaptation inspired by the world of Lewis Carroll. \nThese performances are pay what you wish and open to the community. Bring your family\, bring your friends\, and come support our amazing campers! \n\n	Categories:\n		Slider\, Youth Performance	 \n\n	Tags:\n		\n	free\,\n\n	youth club\,\n\n	Youth Programs \nDirected By: \n\n	Mala Marcano\n\n					\n			youthprograms@actplayers.org			\n	 \n\n\n					 Secure your tickets now!\n			\n			\n						\n\n\n	New London UMC Social Hall\n\n1010 State Rd\n		\n		Lincoln University\,\n	PA\n	19352\n	United States\n\n\n	+ Google Map \n\n					\n						\n	 \n\n\n\n\n	\n	Add to calendar	\n		\n	\n \n\n\n	Google Calendar\n\n\n	iCalendar\n\n\n	Outlook 365\n\n\n	Outlook Live\n\n\n\n\n\n\n				X's & O's Cabaret – Auditions	\n\n\n	\n		Through the Looking Glass			\n\n\n\n					Have chatgpt build you a JSON-LD code and paste it here. give this info with your request:\n        Event title\n        Dates & times\n        Venue name & address\n        Ticket link\n        Short description
URL:https://actplayers.org/event/lookingglass/
LOCATION:New London UMC Social Hall\, 1010 State Rd\, Lincoln University\, PA\, 19352\, United States
CATEGORIES:Youth Performance
ATTACH;FMTTYPE=image/png:https://actplayers.org/wp-content/uploads/2026/01/export.png
ORGANIZER;CN="June Sabo":MAILTO:youthprograms@actplayers.org
END:VEVENT
BEGIN:VEVENT
DTSTART;TZID=America/New_York:20260110T140000
DTEND;TZID=America/New_York:20260110T153000
DTSTAMP:20260423T165600
CREATED:20251207T002251Z
LAST-MODIFIED:20260103T175235Z
UID:5762-1768053600-1768059000@actplayers.org
SUMMARY:Through the Looking Glass
DESCRIPTION:« All Events\n \n			January 10\n	  @\n2:00 pm\n	  –\n3:30 pm \n\n	Through the Looking Glass\n\nfree \n	 \nJoin us as our talented young performers take you on a whimsical journey down the rabbit hole in Through the Looking Glass! — a fast-paced\, imaginative adaptation inspired by the world of Lewis Carroll. \nThese performances are pay what you wish and open to the community. Bring your family\, bring your friends\, and come support our amazing campers! \n\n	Categories:\n		Youth Performance	 \n\n	Tags:\n		\n	free\,\n\n	youth club\,\n\n	Youth Programs \nDirected By: \n\n	Mala Marcano\n\n					\n			youthprograms@actplayers.org			\n	 \n\n\n					 Secure your tickets now!\n			\n			\n						\n\n\n	New London UMC Social Hall\n\n1010 State Rd\n		\n		Lincoln University\,\n	PA\n	19352\n	United States\n\n\n	+ Google Map \n\n					\n						\n	 \n\n\n\n\n	\n	Add to calendar	\n		\n	\n \n\n\n	Google Calendar\n\n\n	iCalendar\n\n\n	Outlook 365\n\n\n	Outlook Live\n\n\n\n\n\n\n				Through the Looking Glass	\n\n\n	\n		Through the Looking Glass			\n\n\n\n					Have chatgpt build you a JSON-LD code and paste it here. give this info with your request:\n        Event title\n        Dates & times\n        Venue name & address\n        Ticket link\n        Short description
URL:https://actplayers.org/event/lookingglass-2/
LOCATION:New London UMC Social Hall\, 1010 State Rd\, Lincoln University\, PA\, 19352\, United States
CATEGORIES:Youth Performance
ATTACH;FMTTYPE=image/png:https://actplayers.org/wp-content/uploads/2026/01/export.png
ORGANIZER;CN="June Sabo":MAILTO:youthprograms@actplayers.org
END:VEVENT
BEGIN:VEVENT
DTSTART;TZID=America/New_York:20260110T190000
DTEND;TZID=America/New_York:20260110T203000
DTSTAMP:20260423T165600
CREATED:20251207T002357Z
LAST-MODIFIED:20260103T175255Z
UID:5764-1768071600-1768077000@actplayers.org
SUMMARY:Through the Looking Glass
DESCRIPTION:« All Events\n \n			January 10\n	  @\n7:00 pm\n	  –\n8:30 pm \n\n	Through the Looking Glass\n\nfree \n	 \nJoin us as our talented young performers take you on a whimsical journey down the rabbit hole in Through the Looking Glass! — a fast-paced\, imaginative adaptation inspired by the world of Lewis Carroll. \nThese performances are pay what you wish and open to the community. Bring your family\, bring your friends\, and come support our amazing campers! \n\n	Categories:\n		Youth Performance	 \n\n	Tags:\n		\n	free\,\n\n	youth club\,\n\n	Youth Programs \nDirected By: \n\n	Mala Marcano\n\n					\n			youthprograms@actplayers.org			\n	 \n\n\n					 Secure your tickets now!\n			\n			\n						\n\n\n	New London UMC Social Hall\n\n1010 State Rd\n		\n		Lincoln University\,\n	PA\n	19352\n	United States\n\n\n	+ Google Map \n\n					\n						\n	 \n\n\n\n\n	\n	Add to calendar	\n		\n	\n \n\n\n	Google Calendar\n\n\n	iCalendar\n\n\n	Outlook 365\n\n\n	Outlook Live\n\n\n\n\n\n\n				Through the Looking Glass	\n\n\n	\n		ACT Fast: Play-In-A-Day Challenge			\n\n\n\n\n\n					 Secure your tickets now!
URL:https://actplayers.org/event/lookingglass-3/
LOCATION:New London UMC Social Hall\, 1010 State Rd\, Lincoln University\, PA\, 19352\, United States
CATEGORIES:Youth Performance
ATTACH;FMTTYPE=image/png:https://actplayers.org/wp-content/uploads/2026/01/export.png
ORGANIZER;CN="June Sabo":MAILTO:youthprograms@actplayers.org
END:VEVENT
BEGIN:VEVENT
DTSTART;TZID=America/New_York:20260123T190000
DTEND;TZID=America/New_York:20260124T210000
DTSTAMP:20260423T165600
CREATED:20251116T150515Z
LAST-MODIFIED:20260117T144640Z
UID:4940-1769194800-1769288400@actplayers.org
SUMMARY:ACT Fast: Play-In-A-Day Challenge
DESCRIPTION:« All Events\n \n			January 23\n	  @\n7:00 pm\n	  –\n	January 24\n	  @\n9:00 pm \n\n	ACT Fast: Play-In-A-Day Challenge\n	 \nThink Fast. Create Faster.\nWhat Is ACT Fast?\nA 24-hour creative gauntlet where writers\, directors\, and performers join forces to make brand-new original short plays—from audition to curtain—overnight. No prep. No time. No comfort zone. Just pure artistic adrenaline. \nIf you thrive on chaos\, collaboration\, and good storytelling pressure-cooker style… you belong here. \nHow it Works\nFriday Night\n\n\nCheck-in & Warm-ups \n\n\nAuditions for performers \n\n\nWriters + Directors Meeting \n\n\nOnce auditions end\, performers leave. \n\n\nWriters pull prompts\, cast lists\, and start writing immediately.They have ONE night to deliver finished scripts. \n\n\nSaturday Morning\n\n\nScripts delivered. \n\n\nDirectors receive their shows. \n\n\nCasting announced. \n\n\nRehearsals launch instantly. \n\n\nSaturday Afternoon\n\n\nBlocking\, memorizing\, panicking (the fun kind). \n\n\nDesigners collaborate on minimal props/costumes. \n\n\nDirectors whip everything into a functioning play. \n\n\nSaturday Evening\n\n\nShowtime.The plays hit the stage for one wild\, unpredictable\, absolutely electric performance. \n\n\nWhy Join ACT Fast?\nBecause you’ll walk away with:\n\n\nA creative high you can’t fake. \n\n\nA new network of collaborators. \n\n\nA story you’ll retell for years. \n\n\nA chance to push your craft at full throttle. \n\n\nA finished\, performed play created in a single day (seriously). \n\n\nThis isn’t about perfection. It’s about guts\, passion\, and saying “yes” to the impossible. \nWho Should Participate?\n\n\nWriters craving a high-speed challenge \n\n\nDirectors who can lead under pressure \n\n\nActors who love improvising\, adapting\, and fully committing \n\n\nNew artists who want to break in \n\n\nVeteran performers who miss the thrill of risk \n\n\nAnyone who wants to stretch\, grow\, and play \n\n\nIf you’ve ever said\, “I wish I had more chances to experiment”… this is it. \nWhat to Bring\n\n\nComfortable clothes \n\n\nWater + snacks \n\n\nYour best collaborative attitude \n\n\nA sense of humor \n\n\nAbsolutely zero fear of the unknown \n\n\nHow to Participate\nDirectors & Writers:Deadline has passed\, but you can still come to audition! \nActors:Join us for auditions on January 23 at 7pm. No preparation needed—cold reads will be provided. You can sign up below for auditions to give us a heads up of who is coming. Walk-ins are also accepted. \n\n	Categories:\n		Event	 \n\n	Tags:\n		\n	event\,\n\n	free\,\n\n	one day play \n\n	Organizer\n\n	Tina Walls\n\n					\n			act-fast@actplayers.org			\n	 \n\n	New London UMC Social Hall\n\n1010 State Rd\n		\n		Lincoln University\,\n	PA\n	19352\n	United States\n\n\n	+ Google Map \n\n					\n						\n	 \n\n\n\n\n	\n	Add to calendar	\n		\n	\n \n\n\n	Google Calendar\n\n\n	iCalendar\n\n\n	Outlook 365\n\n\n	Outlook Live\n\n\n\n\n\n\n				Through the Looking Glass	\n\n\n	\n		ACT Fast Performance			\n\n\n\n					Have chatgpt build you a JSON-LD code and paste it here. give this info with your request:\n        Event title\n        Dates & times\n        Venue name & address\n        Ticket link\n        Short description
URL:https://actplayers.org/event/act-fast/
LOCATION:New London UMC Social Hall\, 1010 State Rd\, Lincoln University\, PA\, 19352\, United States
CATEGORIES:Auditions,Event
ATTACH;FMTTYPE=image/png:https://actplayers.org/wp-content/uploads/2025/11/export-4.png
ORGANIZER;CN="Tina Walls":MAILTO:act-fast@actplayers.org
END:VEVENT
BEGIN:VEVENT
DTSTART;TZID=America/New_York:20260124T190000
DTEND;TZID=America/New_York:20260124T210000
DTSTAMP:20260423T165600
CREATED:20251116T154702Z
LAST-MODIFIED:20260116T003510Z
UID:4970-1769281200-1769288400@actplayers.org
SUMMARY:ACT Fast Performance
DESCRIPTION:« All Events \nJanuary 24\n@\n7:00 pm\n–\n9:00 pm \nACT Fast Performance\n \nBrand-New Plays. One Day to Make Them. Unlimited Chaos.\nBuckle up for the most unpredictable theater event of the year. ACT Fast is our 24-hour play challenge where fearless writers\, directors\, and actors build completely original short plays from scratch — all within a single day — and you get to watch the results unfold live onstage. \nNo prewritten scripts. No long rehearsals. Just pure creativity under extreme pressure\, performed while the ideas are still fresh and the adrenaline is still pumping. \nThis is the kind of theater where anything can happen… and usually does. \n\nWhat You’ll See\n\n\nOriginal plays written overnight \n\n\nActors performing on caffeine\, courage\, and questionable choices \n\n\nDirectors pulling off stage miracles with basically no time \n\n\nWriters hoping the audience laughs with them\, not at them \n\n\nBig swings\, bold moments\, happy accidents\, and live-wire energy \n\n\n\nWhy You’ll Love It\nBecause you’re not just watching theater — you’re watching artists take risks in real time. It’s raw\, hilarious\, heartfelt\, messy\, brave\, and completely unforgettable. \nAnd the best part? \nPay What You Wish\nThis performance is pay what you wish.Give whatever feels right — whether that’s a few dollars or a little extra to support the madness. Everyone is welcome\, no pressure\, all fun. \nCome be part of something wild\, weird\, and wonderfully spontaneous. \n\nGet Tickets\n\nCategories:\nEvent \nTags:\n\nevent\,\n\nfree\,\n\none day play \nTina Walls\nact-fast@actplayers.org \nNew London UMC Social Hall\n1010 State RdLincoln University\,\nPA\n19352\nUnited States\n+ Google Map \n  \n\n\n\n\nAdd to calendar \n  \n\nGoogle Calendar\niCalendar\nOutlook 365\nOutlook Live\n\n\n\n\nACT Fast: Play-In-A-Day Challenge \n\nLittle Women
URL:https://actplayers.org/event/act-fast-show/
LOCATION:New London UMC Social Hall\, 1010 State Rd\, Lincoln University\, PA\, 19352\, United States
CATEGORIES:Event
ATTACH;FMTTYPE=image/png:https://actplayers.org/wp-content/uploads/2025/11/export-4.png
ORGANIZER;CN="Tina Walls":MAILTO:act-fast@actplayers.org
END:VEVENT
BEGIN:VEVENT
DTSTART;VALUE=DATE:20260127
DTEND;VALUE=DATE:20260128
DTSTAMP:20260423T165600
CREATED:20260123T002239Z
LAST-MODIFIED:20260123T002239Z
UID:6278-1769472000-1769558399@actplayers.org
SUMMARY:Deadline: Winter Club Registration
DESCRIPTION:
URL:https://actplayers.org/event/deadline-winter-club/
LOCATION:New London UMC Social Hall\, 1010 State Rd\, Lincoln University\, PA\, 19352\, United States
CATEGORIES:Deadlines,Youth Performance
ATTACH;FMTTYPE=image/png:https://actplayers.org/wp-content/uploads/2025/12/export-8.png
END:VEVENT
END:VCALENDAR